BEGIN:VCALENDAR
VERSION:2.0
PRODID:-//AudioTheme 2.3.8
BEGIN:VEVENT
UID:urn:uuid:caae71a7-b1d0-4a5d-9bc9-3f4be79aaaae
URL:https://mitchmcvicker.com/concerts/gig-2863/
DTSTART;VALUE=DATE:20041106
SUMMARY:Seekers Coffee House
LOCATION:Seekers Coffee House\, Middleburg Heights\, OH
END:VEVENT
END:VCALENDAR
