BEGIN:VCALENDAR
VERSION:2.0
PRODID:-//AudioTheme 2.3.8
BEGIN:VEVENT
UID:urn:uuid:60f9d0df-5526-4a1e-b8c1-29b720962c1e
URL:https://mitchmcvicker.com/concerts/gig-2861/
DTSTART;VALUE=DATE:20041105
SUMMARY:Saint Amelia Church
LOCATION:Saint Amelia Church\, Tonawanda (Buffalo)\, 
END:VEVENT
END:VCALENDAR
