BEGIN:VCALENDAR
VERSION:2.0
PRODID:-//AudioTheme 2.3.8
BEGIN:VEVENT
UID:urn:uuid:9780dca9-b0ea-4a4c-b79f-efef5184f44d
URL:https://mitchmcvicker.com/concerts/gig-2859/
DTSTART;VALUE=DATE:20041027
SUMMARY:Zion Lutheran Church
LOCATION:Zion Lutheran Church\, Litchfield\, MN
END:VEVENT
END:VCALENDAR
