BEGIN:VCALENDAR
VERSION:2.0
PRODID:-//AudioTheme 2.3.8
BEGIN:VEVENT
UID:urn:uuid:15e58d88-f9b2-4ecf-bad5-4fddf0d991f0
URL:https://mitchmcvicker.com/concerts/gig-2855/
DTSTART;VALUE=DATE:20041023
SUMMARY:Fairview Lutheran Church
LOCATION:Fairview Lutheran Church\, Minnetonka\, MN
END:VEVENT
END:VCALENDAR
