BEGIN:VCALENDAR
VERSION:2.0
PRODID:-//AudioTheme 2.3.8
BEGIN:VEVENT
UID:urn:uuid:f86b19ed-026e-4519-be19-075f24325b8f
URL:https://mitchmcvicker.com/concerts/gig-2853/
DTSTART;VALUE=DATE:20041022
SUMMARY:Parkview Church
LOCATION:Parkview Church\, Black River Falls\, WI
END:VEVENT
END:VCALENDAR
