BEGIN:VCALENDAR
VERSION:2.0
PRODID:-//AudioTheme 2.3.8
BEGIN:VEVENT
UID:urn:uuid:6e694736-0519-491a-a241-6dd160935322
URL:https://mitchmcvicker.com/concerts/gig-2850/
DTSTART;VALUE=DATE:20041017
SUMMARY:Atonement Lutheran Church
LOCATION:Atonement Lutheran Church\, Fargo\, ND
END:VEVENT
END:VCALENDAR
