BEGIN:VCALENDAR
VERSION:2.0
PRODID:-//AudioTheme 2.3.8
BEGIN:VEVENT
UID:urn:uuid:912c0c97-cd71-4932-9e32-eb9b3ddd6d2a
URL:https://mitchmcvicker.com/concerts/gig-2848/
DTSTART;VALUE=DATE:20041016
SUMMARY:Bethany Baptist Church
LOCATION:Bethany Baptist Church\, Duluth\, MN
END:VEVENT
END:VCALENDAR
