BEGIN:VCALENDAR
VERSION:2.0
PRODID:-//AudioTheme 2.3.8
BEGIN:VEVENT
UID:urn:uuid:c45a8534-5574-44d1-b49b-7a391096e0a7
URL:https://mitchmcvicker.com/concerts/gig-2845/
DTSTART;VALUE=DATE:20041013
SUMMARY:Nekoosa High School Auditorium
LOCATION:Nekoosa High School Auditorium\, Nekoosa\, WI
END:VEVENT
END:VCALENDAR
