BEGIN:VCALENDAR
VERSION:2.0
PRODID:-//AudioTheme 2.3.8
BEGIN:VEVENT
UID:urn:uuid:6e970ddc-b22f-4a10-91ad-0a913a62e1df
URL:https://mitchmcvicker.com/concerts/gig-2844/
DTSTART;VALUE=DATE:20041010
SUMMARY:Vineyard Christian Fellowship
LOCATION:Vineyard Christian Fellowship\, Elgin\, IL
END:VEVENT
END:VCALENDAR
