BEGIN:VCALENDAR
VERSION:2.0
PRODID:-//AudioTheme 2.3.8
BEGIN:VEVENT
UID:urn:uuid:ab6413ce-2a74-44dc-aec3-47038a9fcdfa
URL:https://mitchmcvicker.com/concerts/gig-2843/
DTSTART;VALUE=DATE:20041010
SUMMARY:Westridge Community Church-Visual Performing Arts Center-Elgin Community College
LOCATION:Westridge Community Church-Visual Performing Arts Center-Elgin Community College\, Elgin\, IL
END:VEVENT
END:VCALENDAR
