BEGIN:VCALENDAR
VERSION:2.0
PRODID:-//AudioTheme 2.3.8
BEGIN:VEVENT
UID:urn:uuid:a5393510-dfb8-410e-a2c9-3b9b814d8fdb
URL:https://mitchmcvicker.com/concerts/gig-2842/
DTSTART;VALUE=DATE:20041009
SUMMARY:Sterling Coliseum
LOCATION:Sterling Coliseum\, Sterling\, IL
END:VEVENT
END:VCALENDAR
