BEGIN:VCALENDAR
VERSION:2.0
PRODID:-//AudioTheme 2.3.8
BEGIN:VEVENT
UID:urn:uuid:b1bcd39f-f3b3-4f9c-82b5-336a24d81e09
URL:https://mitchmcvicker.com/concerts/gig-2841/
DTSTART;VALUE=DATE:20041008
SUMMARY:Comfort Zone Coffeehouse
LOCATION:Comfort Zone Coffeehouse\, Plainfield (Indianapolis)\, IN
END:VEVENT
END:VCALENDAR
