BEGIN:VCALENDAR
VERSION:2.0
PRODID:-//AudioTheme 2.3.8
BEGIN:VEVENT
UID:urn:uuid:c328ae92-6025-470a-a0d2-d7b947073f70
URL:https://mitchmcvicker.com/concerts/gig-2840/
DTSTART;VALUE=DATE:20041007
SUMMARY:Bashor Children's Home
LOCATION:Bashor Children's Home\, Goshen\, IN
END:VEVENT
END:VCALENDAR
