BEGIN:VCALENDAR
VERSION:2.0
PRODID:-//AudioTheme 2.3.8
BEGIN:VEVENT
UID:urn:uuid:886120b4-219d-4bb9-abe9-24f2a6647535
URL:https://mitchmcvicker.com/concerts/gig-2823/
DTSTART;VALUE=DATE:20041003
SUMMARY:Vineyard Christian Fellowship
LOCATION:Vineyard Christian Fellowship\, Norman\, OK
END:VEVENT
END:VCALENDAR
