BEGIN:VCALENDAR
VERSION:2.0
PRODID:-//AudioTheme 2.3.8
BEGIN:VEVENT
UID:urn:uuid:f3b60d48-341f-4dd5-b1d4-77a8f23e242f
URL:https://mitchmcvicker.com/concerts/gig-2822/
DTSTART;VALUE=DATE:20040930
SUMMARY:Faith and Learning Alumni Auditorium/Friends University
LOCATION:Faith and Learning Alumni Auditorium/Friends University\, Wichita\, KS
END:VEVENT
END:VCALENDAR
