BEGIN:VCALENDAR
VERSION:2.0
PRODID:-//AudioTheme 2.3.8
BEGIN:VEVENT
UID:urn:uuid:21a64931-3b9b-4bce-af36-ae20b6b7a4be
URL:https://mitchmcvicker.com/concerts/gig-2821/
DTSTART;VALUE=DATE:20040911
SUMMARY:Lutheran Church of the Master
LOCATION:Lutheran Church of the Master\, 580 Kuhn Rd.\, Carol Stream\, IL\, USA
END:VEVENT
END:VCALENDAR
