BEGIN:VCALENDAR
VERSION:2.0
PRODID:-//AudioTheme 2.3.8
BEGIN:VEVENT
UID:urn:uuid:2bd0a990-10da-4ffe-8265-58e28a2f6989
URL:https://mitchmcvicker.com/concerts/gig-2819/
DTSTART;VALUE=DATE:20040828
SUMMARY:Holton Community Center
LOCATION:Holton Community Center\, Holton\, IN
END:VEVENT
END:VCALENDAR
