BEGIN:VCALENDAR
VERSION:2.0
PRODID:-//AudioTheme 2.3.8
BEGIN:VEVENT
UID:urn:uuid:fb8c438b-d0af-452c-8a02-19bdebb04525
URL:https://mitchmcvicker.com/concerts/gig-2815/
DTSTART;VALUE=DATE:20040814
SUMMARY:North Shore Christian Church-Kauai Christian Academy
LOCATION:North Shore Christian Church-Kauai Christian Academy\, Kilauea\, HI
END:VEVENT
END:VCALENDAR
