BEGIN:VCALENDAR
VERSION:2.0
PRODID:-//AudioTheme 2.3.8
BEGIN:VEVENT
UID:urn:uuid:7a99eb09-ee81-49d7-ac70-00bfc2af2b67
URL:https://mitchmcvicker.com/concerts/gig-2813/
DTSTART;VALUE=DATE:20040809
SUMMARY:First Baptist Church
LOCATION:First Baptist Church\, Valley View\, TX
END:VEVENT
END:VCALENDAR
