BEGIN:VCALENDAR
VERSION:2.0
PRODID:-//AudioTheme 2.3.8
BEGIN:VEVENT
UID:urn:uuid:38be7e96-37a6-452a-8823-eca74ab51049
URL:https://mitchmcvicker.com/concerts/gig-2811/
DTSTART;VALUE=DATE:20040808
SUMMARY:Grace Fellowship Baptist Church
LOCATION:Grace Fellowship Baptist Church\, San Antonio\, TX
END:VEVENT
END:VCALENDAR
