BEGIN:VCALENDAR
VERSION:2.0
PRODID:-//AudioTheme 2.3.8
BEGIN:VEVENT
UID:urn:uuid:5321c58e-cb54-4a95-8155-cb1b20812992
URL:https://mitchmcvicker.com/concerts/gig-2809/
DTSTART;VALUE=DATE:20040807
SUMMARY:Alto Frio Baptist Emcampment
LOCATION:Alto Frio Baptist Emcampment\, Leakey\, TX
END:VEVENT
END:VCALENDAR
