BEGIN:VCALENDAR
VERSION:2.0
PRODID:-//AudioTheme 2.3.8
BEGIN:VEVENT
UID:urn:uuid:1fea7a2b-663f-49ce-9d17-35e70abf09f5
URL:https://mitchmcvicker.com/concerts/gig-2807/
DTSTART;VALUE=DATE:20040806
SUMMARY:Fellowship at Prairie Creek Church
LOCATION:Fellowship at Prairie Creek Church\, Lindale (Tyler area)\, TX
END:VEVENT
END:VCALENDAR
