BEGIN:VCALENDAR
VERSION:2.0
PRODID:-//AudioTheme 2.3.8
BEGIN:VEVENT
UID:urn:uuid:8c0f76ad-9b31-45bb-9733-2c538fdb6a91
URL:https://mitchmcvicker.com/concerts/gig-2805/
DTSTART;VALUE=DATE:20040805
SUMMARY:Calvary Worship Center
LOCATION:Calvary Worship Center\, Austin\, TX
END:VEVENT
END:VCALENDAR
