BEGIN:VCALENDAR
VERSION:2.0
PRODID:-//AudioTheme 2.3.8
BEGIN:VEVENT
UID:urn:uuid:ac1431e9-99ad-4cd0-8167-348da927adac
URL:https://mitchmcvicker.com/concerts/gig-2803/
DTSTART;VALUE=DATE:20040731
SUMMARY:Guyandotte Baptist Church
LOCATION:Guyandotte Baptist Church\, Ona\, WV
END:VEVENT
END:VCALENDAR
