BEGIN:VCALENDAR
VERSION:2.0
PRODID:-//AudioTheme 2.3.8
BEGIN:VEVENT
UID:urn:uuid:a6efd2cf-2fb4-486e-871d-97bc92e32990
URL:https://mitchmcvicker.com/concerts/gig-2802/
DTSTART;VALUE=DATE:20040718
SUMMARY:Yorkfield Presbyterian Church
LOCATION:Yorkfield Presbyterian Church\, Elmhurst\, IL
END:VEVENT
END:VCALENDAR
