BEGIN:VCALENDAR
VERSION:2.0
PRODID:-//AudioTheme 2.3.8
BEGIN:VEVENT
UID:urn:uuid:748f8fbe-fffc-4d83-a80f-bfb1e7246fbb
URL:https://mitchmcvicker.com/concerts/gig-2800/
DTSTART;VALUE=DATE:20040709
SUMMARY:Lifest 2004 Festival-Sunnyview Expo Center, Winnebago County Fairgrounds
LOCATION:Lifest 2004 Festival-Sunnyview Expo Center\, Winnebago County Fairgrounds\, Oshkosh\, WI
END:VEVENT
END:VCALENDAR
