BEGIN:VCALENDAR
VERSION:2.0
PRODID:-//AudioTheme 2.3.8
BEGIN:VEVENT
UID:urn:uuid:6829fcf6-7e27-4869-93ec-b90f64d8c21a
URL:https://mitchmcvicker.com/concerts/gig-2799/
DTSTART;VALUE=DATE:20040619
SUMMARY:Bridge Community Church-Jeremiah's Grotto Coffeehouse
LOCATION:Bridge Community Church-Jeremiah's Grotto Coffeehouse\, Portage\, IN
END:VEVENT
END:VCALENDAR
