BEGIN:VCALENDAR
VERSION:2.0
PRODID:-//AudioTheme 2.3.8
BEGIN:VEVENT
UID:urn:uuid:2f65fd60-edb2-4f66-8db7-fe68cc0ab0c0
URL:https://mitchmcvicker.com/concerts/gig-2798/
DTSTART;VALUE=DATE:20040626
SUMMARY:Hope United Methodist Church
LOCATION:Hope United Methodist Church\, Hoagland\, IN
END:VEVENT
END:VCALENDAR
