BEGIN:VCALENDAR
VERSION:2.0
PRODID:-//AudioTheme 2.3.8
BEGIN:VEVENT
UID:urn:uuid:5171a39a-45c0-42ec-8085-a9b27068131c
URL:https://mitchmcvicker.com/concerts/gig-2796/
DTSTART;VALUE=DATE:20040627
SUMMARY:Sardinia Church
LOCATION:Sardinia Church\, Bryant\, IN
END:VEVENT
END:VCALENDAR
