BEGIN:VCALENDAR
VERSION:2.0
PRODID:-//AudioTheme 2.3.8
BEGIN:VEVENT
UID:urn:uuid:0ac82df6-fc93-4c1f-9c2d-a371d38f47f5
URL:https://mitchmcvicker.com/concerts/gig-2791/
DTSTART;VALUE=DATE:20040619
SUMMARY:The  Bridge Community Church- Jeremiah's Coffeehouse
LOCATION:The  Bridge Community Church- Jeremiah's Coffeehouse\, Portage\, IN
END:VEVENT
END:VCALENDAR
