BEGIN:VCALENDAR
VERSION:2.0
PRODID:-//AudioTheme 2.3.8
BEGIN:VEVENT
UID:urn:uuid:e50a8db6-2808-47d4-aa70-1666dd5c9e5d
URL:https://mitchmcvicker.com/concerts/gig-2790/
DTSTART;VALUE=DATE:20040613
SUMMARY:Erlanger Baptist Church
LOCATION:Erlanger Baptist Church\, Erlanger\, KY
END:VEVENT
END:VCALENDAR
