BEGIN:VCALENDAR
VERSION:2.0
PRODID:-//AudioTheme 2.3.8
BEGIN:VEVENT
UID:urn:uuid:ce716e9a-0d4a-4b21-bfe0-041e18d1640c
URL:https://mitchmcvicker.com/concerts/gig-2788/
DTSTART;VALUE=DATE:20040525
SUMMARY:Killingworth Congregational Church
LOCATION:Killingworth Congregational Church\, Killingworth\, CT
END:VEVENT
END:VCALENDAR
