BEGIN:VCALENDAR
VERSION:2.0
PRODID:-//AudioTheme 2.3.8
BEGIN:VEVENT
UID:urn:uuid:743b5f5e-3302-4760-a20e-22c9d2e4a7d7
URL:https://mitchmcvicker.com/concerts/gig-2785/
DTSTART;VALUE=DATE:20040523
SUMMARY:Calvary Chapel
LOCATION:Calvary Chapel\, Uncasville\, CT
END:VEVENT
END:VCALENDAR
