BEGIN:VCALENDAR
VERSION:2.0
PRODID:-//AudioTheme 2.3.8
BEGIN:VEVENT
UID:urn:uuid:25c78f4a-c7cf-42b5-aa83-ea3b1fb69b12
URL:https://mitchmcvicker.com/concerts/gig-2782/
DTSTART;VALUE=DATE:20040519
SUMMARY:Rock Church
LOCATION:Rock Church\, Halifax\, \, Nova Scotia
END:VEVENT
END:VCALENDAR
