BEGIN:VCALENDAR
VERSION:2.0
PRODID:-//AudioTheme 2.3.8
BEGIN:VEVENT
UID:urn:uuid:9aceb6f7-4e2f-4e5a-bd75-8e9abaa5d7ac
URL:https://mitchmcvicker.com/concerts/gig-2780/
DTSTART;VALUE=DATE:20040518
SUMMARY:Rock Church
LOCATION:Rock Church\, Halifax\, \, Nova Scotia
END:VEVENT
END:VCALENDAR
