BEGIN:VCALENDAR
VERSION:2.0
PRODID:-//AudioTheme 2.3.8
BEGIN:VEVENT
UID:urn:uuid:e7ff2aa5-80a0-4e74-a2c9-4039cd3b1d70
URL:https://mitchmcvicker.com/concerts/gig-2778/
DTSTART;VALUE=DATE:20040516
SUMMARY:Harbourfront Theater
LOCATION:Harbourfront Theater\, Summerside\, \, Prince Edward Island\, Canada
END:VEVENT
END:VCALENDAR
