BEGIN:VCALENDAR
VERSION:2.0
PRODID:-//AudioTheme 2.3.8
BEGIN:VEVENT
UID:urn:uuid:2f2dc5f6-a221-4ef1-88da-6cba482d9324
URL:https://mitchmcvicker.com/concerts/gig-2776/
DTSTART;VALUE=DATE:20040515
SUMMARY:Moncton Wesleyan Church
LOCATION:Moncton Wesleyan Church\, Moncton\, \, New Brunswick\, Canada
END:VEVENT
END:VCALENDAR
