BEGIN:VCALENDAR
VERSION:2.0
PRODID:-//AudioTheme 2.3.8
BEGIN:VEVENT
UID:urn:uuid:656cab31-89ab-4cb5-894e-bf15c18df13b
URL:https://mitchmcvicker.com/concerts/gig-2774/
DTSTART;VALUE=DATE:20040514
SUMMARY:First United Pentecostal Church
LOCATION:First United Pentecostal Church\, Fredericton\, \, New Brunsvick\, Canada
END:VEVENT
END:VCALENDAR
