BEGIN:VCALENDAR
VERSION:2.0
PRODID:-//AudioTheme 2.3.8
BEGIN:VEVENT
UID:urn:uuid:058887c7-2b02-4ab0-9a9d-9602967a3c6d
URL:https://mitchmcvicker.com/concerts/gig-2772/
DTSTART;VALUE=DATE:20040508
SUMMARY:The Martin Centre
LOCATION:The Martin Centre\, Douglas\, GA
END:VEVENT
END:VCALENDAR
