BEGIN:VCALENDAR
VERSION:2.0
PRODID:-//AudioTheme 2.3.8
BEGIN:VEVENT
UID:urn:uuid:05e9c3dd-f9b4-4f9f-a5e9-4995ae7026ce
URL:https://mitchmcvicker.com/concerts/gig-2770/
DTSTART;VALUE=DATE:20040507
SUMMARY:Byne Memorial Baptist Church
LOCATION:Byne Memorial Baptist Church\, Albany\, GA
END:VEVENT
END:VCALENDAR
