BEGIN:VCALENDAR
VERSION:2.0
PRODID:-//AudioTheme 2.3.8
BEGIN:VEVENT
UID:urn:uuid:705c5f71-c6a7-4c30-ad44-36f8ed3811c8
URL:https://mitchmcvicker.com/concerts/gig-2768/
DTSTART;VALUE=DATE:20040506
SUMMARY:First Baptist Church on the Square
LOCATION:First Baptist Church on the Square\, LaGrange\, GA
END:VEVENT
END:VCALENDAR
