BEGIN:VCALENDAR
VERSION:2.0
PRODID:-//AudioTheme 2.3.8
BEGIN:VEVENT
UID:urn:uuid:fc3a6e2f-b2c8-461e-80ac-495e53b9ead7
URL:https://mitchmcvicker.com/concerts/gig-2766/
DTSTART;VALUE=DATE:20040430
SUMMARY:Northcrest Baptist Church
LOCATION:Northcrest Baptist Church\, Meridian\, MS
END:VEVENT
END:VCALENDAR
