BEGIN:VCALENDAR
VERSION:2.0
PRODID:-//AudioTheme 2.3.8
BEGIN:VEVENT
UID:urn:uuid:379ddb8f-0ce7-4e81-bda5-155da93e7812
URL:https://mitchmcvicker.com/concerts/gig-2764/
DTSTART;VALUE=DATE:20040429
SUMMARY:Glema Mahr Performing Arts Center
LOCATION:Glema Mahr Performing Arts Center\, Madisonville\, KY
END:VEVENT
END:VCALENDAR
