BEGIN:VCALENDAR
VERSION:2.0
PRODID:-//AudioTheme 2.3.8
BEGIN:VEVENT
UID:urn:uuid:3f9315f5-093a-4590-8aa2-887dd9550fda
URL:https://mitchmcvicker.com/concerts/gig-2762/
DTSTART;VALUE=DATE:20040426
SUMMARY:Fort Hays State University
LOCATION:Fort Hays State University\, Hays\, KS
END:VEVENT
END:VCALENDAR
