BEGIN:VCALENDAR
VERSION:2.0
PRODID:-//AudioTheme 2.3.8
BEGIN:VEVENT
UID:urn:uuid:baea7fae-0c72-417c-a636-32be88423f42
URL:https://mitchmcvicker.com/concerts/gig-2760/
DTSTART;VALUE=DATE:20040425
SUMMARY:Colby Community Building
LOCATION:Colby Community Building\, Colby\, KS
END:VEVENT
END:VCALENDAR
