BEGIN:VCALENDAR
VERSION:2.0
PRODID:-//AudioTheme 2.3.8
BEGIN:VEVENT
UID:urn:uuid:30d997e2-efbf-4744-aa48-647bc149f6a3
URL:https://mitchmcvicker.com/concerts/gig-2758/
DTSTART;VALUE=DATE:20040424
SUMMARY:First Nazarene Church
LOCATION:First Nazarene Church\, Englewood\, CO
END:VEVENT
END:VCALENDAR
