BEGIN:VCALENDAR
VERSION:2.0
PRODID:-//AudioTheme 2.3.8
BEGIN:VEVENT
UID:urn:uuid:88c24037-295c-4679-bde1-e34644be30f8
URL:https://mitchmcvicker.com/concerts/gig-2756/
DTSTART;VALUE=DATE:20040423
SUMMARY:Salina Central High School Auditorium
LOCATION:Salina Central High School Auditorium\, Salina\, KS
END:VEVENT
END:VCALENDAR
