BEGIN:VCALENDAR
VERSION:2.0
PRODID:-//AudioTheme 2.3.8
BEGIN:VEVENT
UID:urn:uuid:6561c71b-a091-4af7-b398-91d720b6b1f0
URL:https://mitchmcvicker.com/concerts/gig-2754/
DTSTART;VALUE=DATE:20040418
SUMMARY:Gospel Lighthouse Church
LOCATION:Gospel Lighthouse Church\, Hudson Falls\, NY
END:VEVENT
END:VCALENDAR
