BEGIN:VCALENDAR
VERSION:2.0
PRODID:-//AudioTheme 2.3.8
BEGIN:VEVENT
UID:urn:uuid:7bfba8ce-f402-4275-971e-ea44745be751
URL:https://mitchmcvicker.com/concerts/gig-2752/
DTSTART;VALUE=DATE:20040417
SUMMARY:Faith Assembly of God
LOCATION:Faith Assembly of God\, Poughkeepsesie\, NY
END:VEVENT
END:VCALENDAR
