BEGIN:VCALENDAR
VERSION:2.0
PRODID:-//AudioTheme 2.3.8
BEGIN:VEVENT
UID:urn:uuid:b5c1a6ed-33fd-4100-8d88-9d5d6f542ba7
URL:https://mitchmcvicker.com/concerts/gig-2750/
DTSTART;VALUE=DATE:20040416
SUMMARY:Calvary Church
LOCATION:Calvary Church\, Lancaster\, PA
END:VEVENT
END:VCALENDAR
